BEGIN:VCALENDAR
VERSION:2.0
PRODID:-// - ECPv6.15.20//NONSGML v1.0//EN
CALSCALE:GREGORIAN
METHOD:PUBLISH
X-ORIGINAL-URL:https://trollsveden.com
X-WR-CALDESC:Händelser för 
REFRESH-INTERVAL;VALUE=DURATION:PT1H
X-Robots-Tag:noindex
X-PUBLISHED-TTL:PT1H
BEGIN:VTIMEZONE
TZID:Europe/Stockholm
BEGIN:DAYLIGHT
TZOFFSETFROM:+0100
TZOFFSETTO:+0200
TZNAME:CEST
DTSTART:20220327T010000
END:DAYLIGHT
BEGIN:STANDARD
TZOFFSETFROM:+0200
TZOFFSETTO:+0100
TZNAME:CET
DTSTART:20221030T010000
END:STANDARD
BEGIN:DAYLIGHT
TZOFFSETFROM:+0100
TZOFFSETTO:+0200
TZNAME:CEST
DTSTART:20230326T010000
END:DAYLIGHT
BEGIN:STANDARD
TZOFFSETFROM:+0200
TZOFFSETTO:+0100
TZNAME:CET
DTSTART:20231029T010000
END:STANDARD
BEGIN:DAYLIGHT
TZOFFSETFROM:+0100
TZOFFSETTO:+0200
TZNAME:CEST
DTSTART:20240331T010000
END:DAYLIGHT
BEGIN:STANDARD
TZOFFSETFROM:+0200
TZOFFSETTO:+0100
TZNAME:CET
DTSTART:20241027T010000
END:STANDARD
END:VTIMEZONE
BEGIN:VEVENT
DTSTART;VALUE=DATE:20231028
DTEND;VALUE=DATE:20231030
DTSTAMP:20260420T200508
CREATED:20230823T085224Z
LAST-MODIFIED:20230823T085224Z
UID:3522-1698451200-1698623999@trollsveden.com
SUMMARY:Harmoni Expo i Solna 28 och 29 oktober
DESCRIPTION:Möt\nPehr Trollsveden och Stjärnregns Spålinje/Vägledare på mässan\n\n\n\n\n\n\n\n\n\nHall AB på rad 15 på Harmoni Expo\, Sveriges största alternativmässa för Kropp & Själ finner du \nPehr Trollsveden och Stjärnregn spålinje- Tarotvägledning med linjens vägledare på mässan. \nFör mer info se Harmoni expo hemsida.\n 
URL:https://trollsveden.com/event/harmoni-expo-i-solna-28-och-29-oktober/
LOCATION:Solna Hallen\, ANKDAMMSGATAN 46\, Solna\, Sverige
CATEGORIES:Evenemang,Harmoni Expo i Solna,Mässor
END:VEVENT
END:VCALENDAR