BEGIN:VCALENDAR
VERSION:2.0
PRODID:-// - ECPv6.15.20//NONSGML v1.0//EN
CALSCALE:GREGORIAN
METHOD:PUBLISH
X-ORIGINAL-URL:https://trollsveden.com
X-WR-CALDESC:Händelser för 
REFRESH-INTERVAL;VALUE=DURATION:PT1H
X-Robots-Tag:noindex
X-PUBLISHED-TTL:PT1H
BEGIN:VTIMEZONE
TZID:Europe/Stockholm
BEGIN:DAYLIGHT
TZOFFSETFROM:+0100
TZOFFSETTO:+0200
TZNAME:CEST
DTSTART:20230326T010000
END:DAYLIGHT
BEGIN:STANDARD
TZOFFSETFROM:+0200
TZOFFSETTO:+0100
TZNAME:CET
DTSTART:20231029T010000
END:STANDARD
BEGIN:DAYLIGHT
TZOFFSETFROM:+0100
TZOFFSETTO:+0200
TZNAME:CEST
DTSTART:20240331T010000
END:DAYLIGHT
BEGIN:STANDARD
TZOFFSETFROM:+0200
TZOFFSETTO:+0100
TZNAME:CET
DTSTART:20241027T010000
END:STANDARD
BEGIN:DAYLIGHT
TZOFFSETFROM:+0100
TZOFFSETTO:+0200
TZNAME:CEST
DTSTART:20250330T010000
END:DAYLIGHT
BEGIN:STANDARD
TZOFFSETFROM:+0200
TZOFFSETTO:+0100
TZNAME:CET
DTSTART:20251026T010000
END:STANDARD
END:VTIMEZONE
BEGIN:VEVENT
DTSTART;TZID=Europe/Stockholm:20240305T190000
DTEND;TZID=Europe/Stockholm:20240305T210000
DTSTAMP:20260420T051116
CREATED:20231112T111439Z
LAST-MODIFIED:20231220T090250Z
UID:4077-1709665200-1709672400@trollsveden.com
SUMMARY:Storseans Brunflo
DESCRIPTION:Pehr Trollsveden & Karin Dahlqvist har Storseans och kontaktar nära och kära på andra sidan och förmedlar budskap. \nBiljetter köper du via ticketmaster.se
URL:https://trollsveden.com/event/storseans/
LOCATION:Brunflo\, Nygatan 4\, Brunflo
CATEGORIES:Seanser
ATTACH;FMTTYPE=image/png:https://trollsveden.com/wp-content/uploads/2023/10/Lobster-29-x-21-cm-21-x-29-cm-1.png
END:VEVENT
END:VCALENDAR