BEGIN:VCALENDAR
VERSION:2.0
PRODID:-// - ECPv6.15.20//NONSGML v1.0//EN
CALSCALE:GREGORIAN
METHOD:PUBLISH
X-ORIGINAL-URL:https://trollsveden.com
X-WR-CALDESC:Händelser för 
REFRESH-INTERVAL;VALUE=DURATION:PT1H
X-Robots-Tag:noindex
X-PUBLISHED-TTL:PT1H
BEGIN:VTIMEZONE
TZID:Europe/Stockholm
BEGIN:DAYLIGHT
TZOFFSETFROM:+0100
TZOFFSETTO:+0200
TZNAME:CEST
DTSTART:20230326T010000
END:DAYLIGHT
BEGIN:STANDARD
TZOFFSETFROM:+0200
TZOFFSETTO:+0100
TZNAME:CET
DTSTART:20231029T010000
END:STANDARD
BEGIN:DAYLIGHT
TZOFFSETFROM:+0100
TZOFFSETTO:+0200
TZNAME:CEST
DTSTART:20240331T010000
END:DAYLIGHT
BEGIN:STANDARD
TZOFFSETFROM:+0200
TZOFFSETTO:+0100
TZNAME:CET
DTSTART:20241027T010000
END:STANDARD
BEGIN:DAYLIGHT
TZOFFSETFROM:+0100
TZOFFSETTO:+0200
TZNAME:CEST
DTSTART:20250330T010000
END:DAYLIGHT
BEGIN:STANDARD
TZOFFSETFROM:+0200
TZOFFSETTO:+0100
TZNAME:CET
DTSTART:20251026T010000
END:STANDARD
END:VTIMEZONE
BEGIN:VEVENT
DTSTART;TZID=Europe/Stockholm:20240506T070000
DTEND;TZID=Europe/Stockholm:20240506T210000
DTSTAMP:20260420T020707
CREATED:20240328T195132Z
LAST-MODIFIED:20240420T093729Z
UID:4440-1714978800-1715029200@trollsveden.com
SUMMARY:Storseans med Pehr Trollsveden & Lennart Abrahamsson
DESCRIPTION:Pehr & Lennart besöker Sund Gård\, Mölnbacka och har Storseans. \nAnmäl till Pehr 0704595456
URL:https://trollsveden.com/event/storseans-med-pehr-trollsveden-lennart-abrahamsson/
LOCATION:Sund Gård\, Mölnbacka
CATEGORIES:Seanser
ATTACH;FMTTYPE=image/jpeg:https://trollsveden.com/wp-content/uploads/2023/09/263152642_502957077626803_5329595328148764232_n-1.jpg
END:VEVENT
BEGIN:VEVENT
DTSTART;TZID=Europe/Stockholm:20240514T080000
DTEND;TZID=Europe/Stockholm:20240514T170000
DTSTAMP:20260420T020707
CREATED:20231120T201317Z
LAST-MODIFIED:20231220T090006Z
UID:4106-1715673600-1715706000@trollsveden.com
SUMMARY:Storseans Sandviken
DESCRIPTION:Pehr Trollsveden & Karin Dahlqvist håller Storseans i Folkets Hus\, Sandviken.
URL:https://trollsveden.com/event/storseans-sandviken/
CATEGORIES:Seanser
ATTACH;FMTTYPE=image/jpeg:https://trollsveden.com/wp-content/uploads/2023/11/404176567_903320407816455_5539035812004808514_n.jpg
END:VEVENT
BEGIN:VEVENT
DTSTART;TZID=Europe/Stockholm:20240516T080000
DTEND;TZID=Europe/Stockholm:20240516T170000
DTSTAMP:20260420T020707
CREATED:20231120T201616Z
LAST-MODIFIED:20231220T085821Z
UID:4108-1715846400-1715878800@trollsveden.com
SUMMARY:Storseans Färila
DESCRIPTION:Pehr Trollsveden & Karin Dahlqvist håller Storseans i Färila Revyn. \nBoka din biljett på www.ticketmaster.se
URL:https://trollsveden.com/event/storseans-farila/
CATEGORIES:Seanser
ATTACH;FMTTYPE=image/jpeg:https://trollsveden.com/wp-content/uploads/2023/11/404176567_903320407816455_5539035812004808514_n.jpg
END:VEVENT
BEGIN:VEVENT
DTSTART;TZID=Europe/Stockholm:20240530T190000
DTEND;TZID=Europe/Stockholm:20240530T210000
DTSTAMP:20260420T020707
CREATED:20240323T121526Z
LAST-MODIFIED:20240323T121759Z
UID:4423-1717095600-1717102800@trollsveden.com
SUMMARY:Storseans Grums
DESCRIPTION:Pehr Trollsveden & Lennart Abrahamsson kommer till Gruvan Grums och har Storseans. \nBoka biljett på Ticketmaster.se Scanna QR koden för att boka biljett\, eller gå in på hemsidan.   
URL:https://trollsveden.com/event/storseans-grums/
LOCATION:Gruvan Grums
CATEGORIES:Seanser
ATTACH;FMTTYPE=image/jpeg:https://trollsveden.com/wp-content/uploads/2023/09/263152642_502957077626803_5329595328148764232_n-1.jpg
END:VEVENT
END:VCALENDAR