BEGIN:VCALENDAR
VERSION:2.0
PRODID:-// - ECPv6.15.20//NONSGML v1.0//EN
CALSCALE:GREGORIAN
METHOD:PUBLISH
X-ORIGINAL-URL:https://trollsveden.com
X-WR-CALDESC:Händelser för 
REFRESH-INTERVAL;VALUE=DURATION:PT1H
X-Robots-Tag:noindex
X-PUBLISHED-TTL:PT1H
BEGIN:VTIMEZONE
TZID:Europe/Stockholm
BEGIN:DAYLIGHT
TZOFFSETFROM:+0100
TZOFFSETTO:+0200
TZNAME:CEST
DTSTART:20230326T010000
END:DAYLIGHT
BEGIN:STANDARD
TZOFFSETFROM:+0200
TZOFFSETTO:+0100
TZNAME:CET
DTSTART:20231029T010000
END:STANDARD
BEGIN:DAYLIGHT
TZOFFSETFROM:+0100
TZOFFSETTO:+0200
TZNAME:CEST
DTSTART:20240331T010000
END:DAYLIGHT
BEGIN:STANDARD
TZOFFSETFROM:+0200
TZOFFSETTO:+0100
TZNAME:CET
DTSTART:20241027T010000
END:STANDARD
BEGIN:DAYLIGHT
TZOFFSETFROM:+0100
TZOFFSETTO:+0200
TZNAME:CEST
DTSTART:20250330T010000
END:DAYLIGHT
BEGIN:STANDARD
TZOFFSETFROM:+0200
TZOFFSETTO:+0100
TZNAME:CET
DTSTART:20251026T010000
END:STANDARD
END:VTIMEZONE
BEGIN:VEVENT
DTSTART;TZID=Europe/Stockholm:20240901T130000
DTEND;TZID=Europe/Stockholm:20240901T140000
DTSTAMP:20260419T193644
CREATED:20240807T180935Z
LAST-MODIFIED:20240807T180935Z
UID:4591-1725195600-1725199200@trollsveden.com
SUMMARY:Storseans Borlänge
DESCRIPTION:Pehr Trollsveden \, en av Sveriges bästa medium som haft över 1000 seanser. \nPehr kontaktar nära och kära på andra sidan och förmedlar budskap. här intill. \nVälkommen. \nBiljetter kan bokas via ticketmaster.se eller använd QR koden \n 
URL:https://trollsveden.com/event/storseans-borlange/
LOCATION:Borlänge\, Jussi Björlings väg 25\, Borlänge
CATEGORIES:Seanser
ATTACH;FMTTYPE=image/png:https://trollsveden.com/wp-content/uploads/2024/08/Pehr-Borlange.png
END:VEVENT
BEGIN:VEVENT
DTSTART;TZID=Europe/Stockholm:20240917T190000
DTEND;TZID=Europe/Stockholm:20240917T210000
DTSTAMP:20260419T193644
CREATED:20231220T103053Z
LAST-MODIFIED:20231220T103053Z
UID:4168-1726599600-1726606800@trollsveden.com
SUMMARY:Storseans Lidköping
DESCRIPTION:Pehr Trollsveden & Karin Dahlqvist kontaktar nära och kära på andra sidan och förmedlar budskap. \nBoka biljett på www.ticketmaster.se \n 
URL:https://trollsveden.com/event/storseans-lidkoping/
LOCATION:Lidköping\, Röda Kvarn\, Lidköping
CATEGORIES:Seanser
ATTACH;FMTTYPE=image/jpeg:https://trollsveden.com/wp-content/uploads/2023/11/404176567_903320407816455_5539035812004808514_n.jpg
END:VEVENT
BEGIN:VEVENT
DTSTART;TZID=Europe/Stockholm:20240919T190000
DTEND;TZID=Europe/Stockholm:20240919T210000
DTSTAMP:20260419T193644
CREATED:20231220T103639Z
LAST-MODIFIED:20231220T104117Z
UID:4171-1726772400-1726779600@trollsveden.com
SUMMARY:Storseans Lilla Edet
DESCRIPTION:Pehr Trollsveden & Karin Dahlqvist kontaktar nära och kära på andra sidan och förmedlar budskap. \nBoka biljett på www.ticketmaster.se \n 
URL:https://trollsveden.com/event/storseans-lilla-edet/
LOCATION:Lilla Edet\, Folkets Hus\, Lilla Edet
CATEGORIES:Seanser
ATTACH;FMTTYPE=image/jpeg:https://trollsveden.com/wp-content/uploads/2023/11/404176567_903320407816455_5539035812004808514_n.jpg
END:VEVENT
BEGIN:VEVENT
DTSTART;TZID=Europe/Stockholm:20240925T183000
DTEND;TZID=Europe/Stockholm:20240925T203000
DTSTAMP:20260419T193644
CREATED:20240710T150216Z
LAST-MODIFIED:20240710T150216Z
UID:4570-1727289000-1727296200@trollsveden.com
SUMMARY:Storseans Skoghall Folkets hus
DESCRIPTION:Pehr Trollsveden & Lennart Abrahamsson kontaktar nära och kära på andra sidan och förmedlar budskap. Du kan boka din biljett på Välkommen till Skoghalls Folkets Hus .
URL:https://trollsveden.com/event/storseans-skoghall-folkets-hus/
LOCATION:Skoghall Folkets hus\, Skoghall
CATEGORIES:Seanser
ATTACH;FMTTYPE=image/jpeg:https://trollsveden.com/wp-content/uploads/2024/07/Seans-25-september-180x320-1.jpg
END:VEVENT
END:VCALENDAR