BEGIN:VCALENDAR
VERSION:2.0
PRODID:-// - ECPv6.15.20//NONSGML v1.0//EN
CALSCALE:GREGORIAN
METHOD:PUBLISH
X-ORIGINAL-URL:https://trollsveden.com
X-WR-CALDESC:Händelser för 
REFRESH-INTERVAL;VALUE=DURATION:PT1H
X-Robots-Tag:noindex
X-PUBLISHED-TTL:PT1H
BEGIN:VTIMEZONE
TZID:Europe/Stockholm
BEGIN:DAYLIGHT
TZOFFSETFROM:+0100
TZOFFSETTO:+0200
TZNAME:CEST
DTSTART:20230326T010000
END:DAYLIGHT
BEGIN:STANDARD
TZOFFSETFROM:+0200
TZOFFSETTO:+0100
TZNAME:CET
DTSTART:20231029T010000
END:STANDARD
BEGIN:DAYLIGHT
TZOFFSETFROM:+0100
TZOFFSETTO:+0200
TZNAME:CEST
DTSTART:20240331T010000
END:DAYLIGHT
BEGIN:STANDARD
TZOFFSETFROM:+0200
TZOFFSETTO:+0100
TZNAME:CET
DTSTART:20241027T010000
END:STANDARD
BEGIN:DAYLIGHT
TZOFFSETFROM:+0100
TZOFFSETTO:+0200
TZNAME:CEST
DTSTART:20250330T010000
END:DAYLIGHT
BEGIN:STANDARD
TZOFFSETFROM:+0200
TZOFFSETTO:+0100
TZNAME:CET
DTSTART:20251026T010000
END:STANDARD
END:VTIMEZONE
BEGIN:VEVENT
DTSTART;TZID=Europe/Stockholm:20241014T190000
DTEND;TZID=Europe/Stockholm:20241014T210000
DTSTAMP:20260419T180423
CREATED:20231220T104531Z
LAST-MODIFIED:20231220T104531Z
UID:4174-1728932400-1728939600@trollsveden.com
SUMMARY:Storseans Kristianstad
DESCRIPTION:Pehr Trollsveden & Karin Dahlqvist kontaktar nära och kära på andra sidan och förmedlar budskap. \nBoka din biljett på www.ticketmaster.se \n  \n 
URL:https://trollsveden.com/event/storseans-kristianstad/
LOCATION:Kristianstad\, Kristianstad
CATEGORIES:Seanser
ATTACH;FMTTYPE=image/jpeg:https://trollsveden.com/wp-content/uploads/2023/11/404176567_903320407816455_5539035812004808514_n.jpg
END:VEVENT
BEGIN:VEVENT
DTSTART;TZID=Europe/Stockholm:20241017T190000
DTEND;TZID=Europe/Stockholm:20241017T210000
DTSTAMP:20260419T180423
CREATED:20231220T104856Z
LAST-MODIFIED:20231220T104856Z
UID:4177-1729191600-1729198800@trollsveden.com
SUMMARY:Storseans Linköping
DESCRIPTION:Pehr Trollsveden & Karin Dahlqvist kontaktar nära och kära på andra sidan och förmedlar budskap. \nBoka din biljett på www.ticketmaster.se
URL:https://trollsveden.com/event/storseans-linkoping/
LOCATION:Linköping\, Linköping
CATEGORIES:Seanser
ATTACH;FMTTYPE=image/jpeg:https://trollsveden.com/wp-content/uploads/2023/11/404176567_903320407816455_5539035812004808514_n.jpg
END:VEVENT
END:VCALENDAR