BEGIN:VCALENDAR
VERSION:2.0
PRODID:-// - ECPv6.15.20//NONSGML v1.0//EN
CALSCALE:GREGORIAN
METHOD:PUBLISH
X-ORIGINAL-URL:https://trollsveden.com
X-WR-CALDESC:Händelser för 
REFRESH-INTERVAL;VALUE=DURATION:PT1H
X-Robots-Tag:noindex
X-PUBLISHED-TTL:PT1H
BEGIN:VTIMEZONE
TZID:Europe/Stockholm
BEGIN:DAYLIGHT
TZOFFSETFROM:+0100
TZOFFSETTO:+0200
TZNAME:CEST
DTSTART:20230326T010000
END:DAYLIGHT
BEGIN:STANDARD
TZOFFSETFROM:+0200
TZOFFSETTO:+0100
TZNAME:CET
DTSTART:20231029T010000
END:STANDARD
BEGIN:DAYLIGHT
TZOFFSETFROM:+0100
TZOFFSETTO:+0200
TZNAME:CEST
DTSTART:20240331T010000
END:DAYLIGHT
BEGIN:STANDARD
TZOFFSETFROM:+0200
TZOFFSETTO:+0100
TZNAME:CET
DTSTART:20241027T010000
END:STANDARD
BEGIN:DAYLIGHT
TZOFFSETFROM:+0100
TZOFFSETTO:+0200
TZNAME:CEST
DTSTART:20250330T010000
END:DAYLIGHT
BEGIN:STANDARD
TZOFFSETFROM:+0200
TZOFFSETTO:+0100
TZNAME:CET
DTSTART:20251026T010000
END:STANDARD
END:VTIMEZONE
BEGIN:VEVENT
DTSTART;TZID=Europe/Stockholm:20240627T000000
DTEND;TZID=Europe/Stockholm:20240701T040000
DTSTAMP:20260420T094604
CREATED:20240220T183927Z
LAST-MODIFIED:20240220T184518Z
UID:4304-1719446400-1719806400@trollsveden.com
SUMMARY:Regression -Reinkarnationsterapeut utbildning
DESCRIPTION:Vi arbetar med barndomen och tidigare liv. \nTraumabearbetning \nMeditationer \nLär dig guida ner ”patienter” så de får uppleva tidigare liv\, och barndomen. \nGrunderna i Frigörande andning m.m. \nInga förkunskaper krävs. \nLärare: Pehr Trollsveden & Kristina Wargmåne
URL:https://trollsveden.com/event/regression-reinkarnationsterapeut-utbildning/
LOCATION:Trollhättan
CATEGORIES:Tidigare liv - Reinkarnation
ATTACH;FMTTYPE=image/jpeg:https://trollsveden.com/wp-content/uploads/2024/02/Pehr-Kristina.jpg
END:VEVENT
END:VCALENDAR